BEGIN:VCALENDAR
VERSION:2.0
PRODID:-//Hale School - ECPv6.15.18//NONSGML v1.0//EN
CALSCALE:GREGORIAN
METHOD:PUBLISH
X-ORIGINAL-URL:https://www.hale.wa.edu.au
X-WR-CALDESC:Events for Hale School
REFRESH-INTERVAL;VALUE=DURATION:PT1H
X-Robots-Tag:noindex
X-PUBLISHED-TTL:PT1H
BEGIN:VTIMEZONE
TZID:Australia/Perth
BEGIN:STANDARD
TZOFFSETFROM:+0800
TZOFFSETTO:+0800
TZNAME:AWST
DTSTART:20230101T000000
END:STANDARD
END:VTIMEZONE
BEGIN:VEVENT
DTSTART;TZID=Australia/Perth:20251127T193000
DTEND;TZID=Australia/Perth:20251127T210000
DTSTAMP:20260421T160851
CREATED:20251015T064954Z
LAST-MODIFIED:20251015T065431Z
UID:10000687-1764271800-1764277200@www.hale.wa.edu.au
SUMMARY:Hale St Mary’s Service of Lessons and Carols 2025
DESCRIPTION:We warmly invite you to celebrate the spirit of the season and the warmth of togetherness at our annual Hale St Mary’s Service of Lessons and Carols. This church service features six readings\, interspersed with Christmas pieces performed by Hale and St Mary’s Cantate\, along with congregational carols for everyone to join us in singing. \nAll are welcome – Free Entry – No Bookings or Tickets required. \nThursday 27 November\n7.30pm at St George’s Cathedral (38 St George’s Terrace\, Perth)\nGuests should arrive between 7.10pm and 7.25pm to find a seat in the cathedral. \nPARKING: There is parking in the CCP Council House carpark across the road from the cathedral\, as well as in Wilson Carpark on the corner of Pier and Hay Street (CPP Information: https://www.cityofperthparking.com.au/)
URL:https://www.hale.wa.edu.au/event/hale-st-marys-service-of-lessons-and-carols-2025/
LOCATION:St Georges Cathedral\, Perth\, 6000\, Australia
CATEGORIES:General,Music,Public Event,SMAGS
ATTACH;FMTTYPE=image/jpeg:https://www.hale.wa.edu.au/wp-content/uploads/2025/10/Christmas-carols-2025-web_hero.jpg
END:VEVENT
BEGIN:VEVENT
DTSTART;TZID=Australia/Perth:20250723T170000
DTEND;TZID=Australia/Perth:20250723T193000
DTSTAMP:20260421T160851
CREATED:20250529T055215Z
LAST-MODIFIED:20250529T055215Z
UID:10000515-1753290000-1753299000@www.hale.wa.edu.au
SUMMARY:Hale St Mary's Careers Expo
DESCRIPTION:All senior school students and parents are invited to attend the annual Hale School & St Mary’s Anglican Girls’ School Careers Expo. This event will provide a great opportunity to speak to representatives from a wide range of institutions. \nWednesday 23 July\, 2025\n5.00pm – 7.30pm\nDannatt Hall\, St Mary’s Anglican Girls’ School \nOver 35 exhibitions including: WA Universities\, TAFE\, Registered Training Organisations\, Residential Colleges\, Apprenticeships / Traineeships\, Australian Boarder Force\, Defence Force Recruiting\, Resources Industries\, Volunteering\, Agriculture\, Tourism WA\, USA and UK University Admissions \n \n  \n 
URL:https://www.hale.wa.edu.au/event/hale-st-marys-careers-expo-3/
LOCATION:St Mary’s Anglican Girls’ School
CATEGORIES:Public Event,Senior School,SMAGS
ATTACH;FMTTYPE=image/jpeg:https://www.hale.wa.edu.au/wp-content/uploads/2025/05/Banner-1-scaled.jpg
END:VEVENT
BEGIN:VEVENT
DTSTART;TZID=Australia/Perth:20241128T193000
DTEND;TZID=Australia/Perth:20241128T210000
DTSTAMP:20260421T160851
CREATED:20241114T060132Z
LAST-MODIFIED:20241114T060252Z
UID:10000617-1732822200-1732827600@www.hale.wa.edu.au
SUMMARY:Hale St Mary’s Service of Lessons and Carols
DESCRIPTION:We warmly invite you to celebrate the spirit of the season and the warmth of togetherness at our annual Hale St Mary’s Service of Lessons and Carols. This church service features six readings\, interspersed with Christmas pieces performed by Hale and St Mary’s Cantate\, along with congregational carols for everyone to join us in singing. \nAll are welcome – Free Entry – No Bookings or Tickets required. \nThursday 28 November\n7.30pm at St George’s Cathedral (38 St George’s Terrace\, Perth)\nGuests should arrive between 7.10pm and 7.25pm to find a seat in the cathedral. \nPARKING: There is parking in the CCP Council House carpark across the road from the cathedral\, as well as in Wilson Carpark on the corner of Pier and Hay Street (CPP Information: https://www.cityofperthparking.com.au/)
URL:https://www.hale.wa.edu.au/event/hale-st-marys-service-of-lessons-and-carols/
LOCATION:St Georges Cathedral\, Perth\, 6000\, Australia
CATEGORIES:General,Music,Public Event,SMAGS
ATTACH;FMTTYPE=image/jpeg:https://www.hale.wa.edu.au/wp-content/uploads/2024/11/Christmas-carols-2024-website-image.jpg
END:VEVENT
BEGIN:VEVENT
DTSTART;TZID=Australia/Perth:20240618T170000
DTEND;TZID=Australia/Perth:20240618T193000
DTSTAMP:20260421T160851
CREATED:20240513T070250Z
LAST-MODIFIED:20240513T070725Z
UID:10000591-1718730000-1718739000@www.hale.wa.edu.au
SUMMARY:Hale St Mary's Careers Expo
DESCRIPTION:All senior school students and parents are invited to attend the annual Hale School & St Mary’s Anglican Girls’ School Careers Expo. This event will provide a great opportunity to speak to representatives from a wide range of institutions. \nTuesday 18 June\, 2024\n5.00pm – 7.30pm\nHale Schoo\, Memorial Hall \nOver 35 exhibitions including: WA Universities\, TAFE\, Registered Training Organisations\, Residential Colleges\, Apprenticeships / Traineeships\, Australian Boarder Force\, Defence Force Recruiting\, Resources Industries\, Volunteering\, Agriculture\, Tourism WA\, USA and UK University Admission
URL:https://www.hale.wa.edu.au/event/hale-st-marys-careers-expo-2/
LOCATION:Memorial Hall
CATEGORIES:Public Event,Senior School,SMAGS
ATTACH;FMTTYPE=image/jpeg:https://www.hale.wa.edu.au/wp-content/uploads/2024/05/Careers-Expo-2024-1920x1080-v2-web-scaled.jpg
END:VEVENT
END:VCALENDAR