BEGIN:VCALENDAR
VERSION:2.0
PRODID:-//Hale School - ECPv6.15.18//NONSGML v1.0//EN
CALSCALE:GREGORIAN
METHOD:PUBLISH
X-ORIGINAL-URL:https://www.hale.wa.edu.au
X-WR-CALDESC:Events for Hale School
REFRESH-INTERVAL;VALUE=DURATION:PT1H
X-Robots-Tag:noindex
X-PUBLISHED-TTL:PT1H
BEGIN:VTIMEZONE
TZID:UTC
BEGIN:STANDARD
TZOFFSETFROM:+0000
TZOFFSETTO:+0000
TZNAME:UTC
DTSTART:20230101T000000
END:STANDARD
END:VTIMEZONE
BEGIN:VTIMEZONE
TZID:Australia/Perth
BEGIN:STANDARD
TZOFFSETFROM:+0800
TZOFFSETTO:+0800
TZNAME:AWST
DTSTART:20230101T000000
END:STANDARD
END:VTIMEZONE
BEGIN:VEVENT
DTSTART;VALUE=DATE:20240904
DTEND;VALUE=DATE:20240906
DTSTAMP:20260420T163804
CREATED:20240708T033945Z
LAST-MODIFIED:20240708T033945Z
UID:10000600-1725408000-1725580799@www.hale.wa.edu.au
SUMMARY:Newdegate Field Day
DESCRIPTION:4 and 5 September \nHale School staff love travelling around our beautiful state to visit members of the Hale community in rural and regional Western Australia. \nSome of our fantastic Boarding and Senior School staff will be in the education marquee at the Newdegate Field Day. If you are attending the event please pop in and say hello\, we would love to see you there! \nFor further information please contact admissions@hale.wa.edu.au or +61 8 9347 9733. \n 
URL:https://www.hale.wa.edu.au/event/newdegate-field-day/
CATEGORIES:Admissions,General,Hale Boarding,Public Event
ATTACH;FMTTYPE=image/jpeg:https://www.hale.wa.edu.au/wp-content/uploads/2023/02/Field-Days-image.jpg
END:VEVENT
BEGIN:VEVENT
DTSTART;TZID=Australia/Perth:20240906T160000
DTEND;TZID=Australia/Perth:20240906T171500
DTSTAMP:20260420T163804
CREATED:20240812T055429Z
LAST-MODIFIED:20240812T055429Z
UID:10000478-1725638400-1725642900@www.hale.wa.edu.au
SUMMARY:Junior School Story Time Fun Day
DESCRIPTION:Friday 6 September 2024\n4.00pm – 5.15pm \nWe invite you and your family to celebrate National Read a Book Day on Friday 6 September 2024 while exploring our Pre-Primary and Lower Junior School. \nBook online at www.hale.wa.edu.au/book-a-tour\n(Select “Story Time Fun Day” from the drop down list).
URL:https://www.hale.wa.edu.au/event/junior-school-story-time-fun-day/
CATEGORIES:Admissions,General,Junior School,Play,Public Event
ATTACH;FMTTYPE=image/jpeg:https://www.hale.wa.edu.au/wp-content/uploads/2024/08/Storytime-fun-day-1920x1080_web_event-hero-image.jpg
END:VEVENT
BEGIN:VEVENT
DTSTART;TZID=UTC:20240911T180000
DTEND;TZID=UTC:20240911T200000
DTSTAMP:20260420T163804
CREATED:20240708T054200Z
LAST-MODIFIED:20240708T054255Z
UID:10000603-1726077600-1726084800@www.hale.wa.edu.au
SUMMARY:Singapore sundowner
DESCRIPTION:We invite you to meet with Hale School Headmaster\, Dean Dell’Oro\, Head of Admissions\, Sue-Ellen Armes and Head of Foundation\, Andrine Terry for drinks and canapes when they visit Singapore in September. \nWednesday 11 September6.00pm to 8.00pmANTI:DOTE (Level 1\, Fairmont Singapore) \nFor further information or to RSVP please contact admissions@hale.wa.edu.au or +61 8 9347 9733. \n 
URL:https://www.hale.wa.edu.au/event/singapore-sundowner/
CATEGORIES:Admissions,General,Hale Boarding,Public Event
ATTACH;FMTTYPE=image/jpeg:https://www.hale.wa.edu.au/wp-content/uploads/2024/07/Event-image-Singapore.jpg
END:VEVENT
BEGIN:VEVENT
DTSTART;VALUE=DATE:20240914
DTEND;VALUE=DATE:20240915
DTSTAMP:20260420T163804
CREATED:20240708T055000Z
LAST-MODIFIED:20240708T055016Z
UID:10000604-1726272000-1726358399@www.hale.wa.edu.au
SUMMARY:Vietnam AEAS Exhibition
DESCRIPTION:Hale School Head of Admissions\, Sue-Ellen Armes\, will be attending the AEAS Australian Schools Exhibition in Ho Chi Minh City in September. If you are attending the event\, or are interested in connecting with Sue-Ellen\, we encourage you to visit the Hale School booth and say hello. \nSaturday 14 SeptemberSheraton Saigon \nFor further information please contact admissions@hale.wa.edu.au or +61 8 9347 9733. \n 
URL:https://www.hale.wa.edu.au/event/vietnam-aeas-exhibition/
CATEGORIES:Admissions,General,Hale Boarding,Public Event
ATTACH;FMTTYPE=image/jpeg:https://www.hale.wa.edu.au/wp-content/uploads/2024/07/Event-image-Vietnam.jpg
END:VEVENT
END:VCALENDAR