BEGIN:VCALENDAR
VERSION:2.0
PRODID:-//Hale School - ECPv6.15.18//NONSGML v1.0//EN
CALSCALE:GREGORIAN
METHOD:PUBLISH
X-ORIGINAL-URL:https://www.hale.wa.edu.au
X-WR-CALDESC:Events for Hale School
REFRESH-INTERVAL;VALUE=DURATION:PT1H
X-Robots-Tag:noindex
X-PUBLISHED-TTL:PT1H
BEGIN:VTIMEZONE
TZID:UTC
BEGIN:STANDARD
TZOFFSETFROM:+0000
TZOFFSETTO:+0000
TZNAME:UTC
DTSTART:20230101T000000
END:STANDARD
END:VTIMEZONE
BEGIN:VEVENT
DTSTART;VALUE=DATE:20240808
DTEND;VALUE=DATE:20240810
DTSTAMP:20260422T180720
CREATED:20240708T032901Z
LAST-MODIFIED:20240708T032901Z
UID:10000598-1723075200-1723247999@www.hale.wa.edu.au
SUMMARY:Mingenew Field Day
DESCRIPTION:8 and 9 August \nHale School staff love travelling around our beautiful state to visit members of the Hale community in rural and regional Western Australia. \nSome of our Admissions and Boarding staff will be in the education marquee at the Mingenew Field Day. If you are attending the event please pop in and say hello\, we would love to see you there! \nFor further information please contact admissions@hale.wa.edu.au or +61 8 9347 9733. \n 
URL:https://www.hale.wa.edu.au/event/mingenew-field-day/
CATEGORIES:Admissions,General,Hale Boarding,Public Event
ATTACH;FMTTYPE=image/jpeg:https://www.hale.wa.edu.au/wp-content/uploads/2023/02/Field-Days-image.jpg
END:VEVENT
BEGIN:VEVENT
DTSTART;TZID=UTC:20240809T180000
DTEND;TZID=UTC:20240809T200000
DTSTAMP:20260422T180720
CREATED:20240708T060526Z
LAST-MODIFIED:20240723T064915Z
UID:10000463-1723226400-1723233600@www.hale.wa.edu.au
SUMMARY:Geraldton sundowner
DESCRIPTION:Hale School boarding and admissions staff\, together with St Mary’s Anglican Girls’ School invite you for canapés and drinks. \nFriday 9 August 2024\n6.00pm to 8.00pm\nSkeetas Restaurant and Cafe\n3/219 Foreshore Drive\, Geraldton \nPlease RSVP to headmasterevents@hale.wa.edu.au or +61 8 9347 9733. \n 
URL:https://www.hale.wa.edu.au/event/geraldton-sundowner/
CATEGORIES:Admissions,General,Hale Boarding,Headmaster Events,Public Event
ATTACH;FMTTYPE=image/jpeg:https://www.hale.wa.edu.au/wp-content/uploads/2024/07/Event-image-Geraldton.jpg
END:VEVENT
BEGIN:VEVENT
DTSTART;VALUE=DATE:20240828
DTEND;VALUE=DATE:20240830
DTSTAMP:20260422T180720
CREATED:20240708T033751Z
LAST-MODIFIED:20240708T033751Z
UID:10000599-1724803200-1724975999@www.hale.wa.edu.au
SUMMARY:Dowerin Field Day
DESCRIPTION:28 and 29 August \nHale School staff love travelling around our beautiful state to visit members of the Hale community in rural and regional Western Australia. \nSome of our Admissions and Boarding staff will be in the education marquee at the Dowerin Field Day. If you are attending the event please pop in and say hello\, we would love to see you there! \nFor further information please contact admissions@hale.wa.edu.au or +61 8 9347 9733. \n 
URL:https://www.hale.wa.edu.au/event/dowerin-field-day/
CATEGORIES:Admissions,General,Hale Boarding,Public Event
ATTACH;FMTTYPE=image/jpeg:https://www.hale.wa.edu.au/wp-content/uploads/2023/02/Field-Days-image.jpg
END:VEVENT
BEGIN:VEVENT
DTSTART;TZID=UTC:20240828T153000
DTEND;TZID=UTC:20240828T173000
DTSTAMP:20260422T180720
CREATED:20240708T055831Z
LAST-MODIFIED:20240708T055831Z
UID:10000461-1724859000-1724866200@www.hale.wa.edu.au
SUMMARY:Dowerin sundowner
DESCRIPTION:Wednesday 28 August \nIf you are visiting the Dowerin Field Day\, Hale School Headmaster\, Dean Dell’Oro and Head of Senior School\, David Bourne\, invite you to a sundowner from 3.30pm to 5.30pm at the Harvestaire Stand. \nPlease RSVP to headmasterevents@hale.wa.edu.au or +61 8 9347 9733. \n 
URL:https://www.hale.wa.edu.au/event/dowerin-sundowner-2/
CATEGORIES:Admissions,General,Hale Boarding,Headmaster Events,Public Event
ATTACH;FMTTYPE=image/jpeg:https://www.hale.wa.edu.au/wp-content/uploads/2024/07/Event-image-Dowerin.jpg
END:VEVENT
END:VCALENDAR